BEGIN:VCALENDAR
VERSION:2.0
PRODID:-//hacksw/handcal//NONSGML v1.0//EN
BEGIN:VEVENT
SUMMARY:Trail de Haute Provence
UID:f483c16f-fdf3-4056-8b24-fe132a345b0d
DTSTART:20260513T220000Z
DTEND:20260517T220000Z
LOCATION:Localisation   
CATEGORIES:Sportif
STATUS:
URL;VALUE=URI:https://www.runfun34.com/evenements/2026/05/14/trail-de-haute-provence-2439968
END:VEVENT
END:VCALENDAR
