BEGIN:VCALENDAR
VERSION:2.0
PRODID:-//hacksw/handcal//NONSGML v1.0//EN
BEGIN:VEVENT
SUMMARY:La Saline a Gruissan
UID:333ed581-61bb-4cec-b364-5312e00ec38b
DTSTART:20260515T220000Z
DTEND:20260516T220000Z
LOCATION:Localisation   gruissan
CATEGORIES:Sportif
STATUS:
URL;VALUE=URI:https://www.runfun34.com/evenements/2026/05/16/la-saline-a-gruissan-2430432
END:VEVENT
END:VCALENDAR
