BEGIN:VCALENDAR
VERSION:2.0
PRODID:-//hacksw/handcal//NONSGML v1.0//EN
BEGIN:VEVENT
SUMMARY:Les sentiers de la Campane (Narbonne)
UID:b7516276-be10-4564-af08-add3aa98a90a
DTSTART:20260523T220000Z
DTEND:20260524T220000Z
LOCATION:Localisation   narbonne
CATEGORIES:Sportif
STATUS:
URL;VALUE=URI:https://www.runfun34.com/evenements/2026/05/24/les-sentiers-de-la-campane-narbonne-2432261
END:VEVENT
END:VCALENDAR
