BEGIN:VCALENDAR
VERSION:2.0
PRODID:-//hacksw/handcal//NONSGML v1.0//EN
BEGIN:VEVENT
SUMMARY:Decath’Run
UID:ad7d4c82-f8db-4faa-85f6-2a8486c7ba74
DTSTART:20260612T220000Z
DTEND:20260613T220000Z
LOCATION:Localisation Decathlon  villeneuve les Beziers
CATEGORIES:Sportif
STATUS:
URL;VALUE=URI:https://www.runfun34.com/evenements/2026/06/13/decathrun-2436245
END:VEVENT
END:VCALENDAR
