BEGIN:VCALENDAR
VERSION:2.0
PRODID:-//hacksw/handcal//NONSGML v1.0//EN
BEGIN:VEVENT
SUMMARY:Fete de Fin d'Annee 2025-2026
UID:2bdde84e-1bb8-43d7-9a61-30c361251dbf
DTSTART:20260703T220000Z
DTEND:20260704T220000Z
LOCATION:Localisation la table de rive gauche  serignan
CATEGORIES:Festif
STATUS:
URL;VALUE=URI:https://www.runfun34.com/evenements/2026/07/04/fete-de-fin-dannee-2025-2026-2442544
END:VEVENT
END:VCALENDAR
