BEGIN:VCALENDAR
VERSION:2.0
PRODID:-//hacksw/handcal//NONSGML v1.0//EN
BEGIN:VEVENT
SUMMARY:Les escaliers de Port Vendres
UID:740ec63f-2788-45bb-a89f-e63e08fc59bd
DTSTART:20260711T220000Z
DTEND:20260712T220000Z
LOCATION:Localisation   port vendres
CATEGORIES:Sportif
STATUS:
URL;VALUE=URI:https://www.runfun34.com/evenements/2026/07/12/les-escaliers-de-port-vendres-2429156
END:VEVENT
END:VCALENDAR
