BEGIN:VCALENDAR
VERSION:2.0
PRODID:-//hacksw/handcal//NONSGML v1.0//EN
BEGIN:VEVENT
SUMMARY:Trail Rail Cazouls
UID:4a77dbe6-bb6d-40a4-9bc0-f06808d60db9
DTSTART:20260822T220000Z
DTEND:20260823T220000Z
LOCATION:Localisation   
CATEGORIES:Sportif
STATUS:
URL;VALUE=URI:https://www.runfun34.com/evenements/2026/08/23/trail-rail-cazouls-2436251
END:VEVENT
END:VCALENDAR
