BEGIN:VCALENDAR
VERSION:2.0
PRODID:-//hacksw/handcal//NONSGML v1.0//EN
BEGIN:VEVENT
SUMMARY:Assemblee Generale
UID:7aae68f2-07ba-4279-adff-fec6f2df874e
DTSTART:20260826T220000Z
DTEND:20260827T220000Z
LOCATION:Localisation Poste de Secours, Boulevard Jean Moulin 34350 Valras-Plage, Languedoc-Roussillon
CATEGORIES:Administratif
STATUS:
URL;VALUE=URI:https://www.runfun34.com/evenements/2026/08/27/assemblee-generale-2442545
END:VEVENT
END:VCALENDAR
