BEGIN:VCALENDAR
VERSION:2.0
PRODID:-//hacksw/handcal//NONSGML v1.0//EN
BEGIN:VEVENT
SUMMARY:Run & Fun Race
UID:ecb514cc-dc5d-4aba-8404-e4243cccf374
DTSTART:20260829T220000Z
DTEND:20260830T220000Z
LOCATION:Localisation   
CATEGORIES:Festif
STATUS:
DESCRIPTION:<p>Auberge espagnole</p>
URL;VALUE=URI:https://www.runfun34.com/evenements/2026/08/30/run-amp-fun-race-2442546
END:VEVENT
END:VCALENDAR
