BEGIN:VCALENDAR
VERSION:2.0
PRODID:-//hacksw/handcal//NONSGML v1.0//EN
BEGIN:VEVENT
SUMMARY:Villanova Run
UID:f5261cb6-41c2-440a-91e2-7ac22353fc80
DTSTART:20260919T220000Z
DTEND:20260920T220000Z
LOCATION:Localisation   
CATEGORIES:Sportif
STATUS:
URL;VALUE=URI:https://www.runfun34.com/evenements/2026/09/20/villanova-run-2436249
END:VEVENT
END:VCALENDAR
