BEGIN:VCALENDAR
VERSION:2.0
PRODID:-//hacksw/handcal//NONSGML v1.0//EN
BEGIN:VEVENT
SUMMARY:Paris-Versailles
UID:f7cfa149-b1ab-41d7-a69e-25b4d77d82fd
DTSTART:20260926T220000Z
DTEND:20260927T220000Z
LOCATION:Localisation   
CATEGORIES:Sportif
STATUS:
URL;VALUE=URI:https://www.runfun34.com/evenements/2026/09/27/paris-versailles-2440186
END:VEVENT
END:VCALENDAR
