BEGIN:VCALENDAR
VERSION:2.0
PRODID:-//hacksw/handcal//NONSGML v1.0//EN
BEGIN:VEVENT
SUMMARY:Tijuana binational race
UID:a6141944-e379-4241-bf45-addccb1d8280
DTSTART:20261024T220000Z
DTEND:20261025T220000Z
LOCATION:Localisation   tijuana
CATEGORIES:Sportif
STATUS:
DESCRIPTION:<p>https://binationalrace.com/</p>
URL;VALUE=URI:https://www.runfun34.com/evenements/2026/10/25/tijuana-binational-race-2442461
END:VEVENT
END:VCALENDAR
