BEGIN:VCALENDAR
VERSION:2.0
PRODID:-//hacksw/handcal//NONSGML v1.0//EN
BEGIN:VEVENT
SUMMARY:Les K d'Or
UID:cf1236a1-6a22-4722-b300-5f9cf95d88fa
DTSTART:20261127T230000Z
DTEND:20261128T230000Z
LOCATION:Localisation   
CATEGORIES:Festif
STATUS:
URL;VALUE=URI:https://www.runfun34.com/evenements/2026/11/28/les-k-dor-2442547
END:VEVENT
END:VCALENDAR
